Workbook
Name 介護支援専門員: プルダウン・リスト!$D$14:$D$26
Name 介護予防支援担当職員: プルダウン・リスト!$E$14:$E$26
Name 管理者: プルダウン・リスト!$C$14:$C$26
Name 職種: プルダウン・リスト!$C$13:$J$13
Name 相談支援専門員: プルダウン・リスト!$F$14:$F$15

Sheet 記入方法
B1: ≪提出不要≫
B2: 従業者の勤務の体制及び勤務形態一覧表 記入方法 （居宅介護支援）
C4: ・・・直接入力する必要がある箇所です。 | F4: 下記の記入方法に従って、入力してください。
C5: ・・・プルダウンから選択して入力する必要がある箇所です。
B6: なお、「従業者の勤務の体制及び勤務形態一覧表」に「シフト記号表（勤務時間帯）」も必ず添付して提出してください。
B8: ・最初に「年月欄」「サービス種別」「事業所名」を入力してください。
B10: (1) 「実地指導用」と入力」されているか確認してください。
B11: 実地指導の事前提出書類とする場合は、暦月分で勤務時間を入力してください。
B13: (2) 事業所の営業日及び営業時間を入力してください。
B15: (3) 事業所における常勤の従業者が勤務すべき時間数を入力してください。
B17: (4) 従業者の職種について、下記のうち該当する職種をプルダウンより選択してください。
B18: 記入の順序は、職種ごとにまとめてください。
C20: No | D20: 職種名
C21: 1 | D21: 管理者
C22: 2 | D22: 介護支援専門員
C23: 3 | D23: 介護予防支援担当職員
C25: ※管理者が介護支援専門員を兼務する場合は、管理者とそれ以外の職種を行を分けて記入してください。
B28: (5) 従業者の勤務形態について、下記のうち該当する区分の記号をプルダウンより選択してください。
B29: 記入の順序は、各職種の中で勤務形態の区分ごとにまとめてください。
C31: 記号 | D31: 区分
C32: A | D32: 常勤で専従
C33: B | D33: 常勤で兼務
C34: C | D34: 非常勤で専従
C35: D | D35: 非常勤で兼務
C37: （注）常勤・非常勤の区分について
C38: 当該事業所における勤務時間が、当該事業所において定められている常勤の従業者が勤務すべき時間数に達していることをいいます。雇用の形態は考慮しません。
C39: （例えば、常勤者は週に40時間勤務することとされた事業所であれば、非正規雇用であっても、週40時間勤務する従業者は常勤扱いとなります。）
B42: (6) 従業者の保有する資格について、該当する資格名称をプルダウンより選択してください。
B43: 保有資格を全て記入するのではなく、人員基準上、求められる資格等を入力してください。
B44: ※選択した資格及び研修に関して、必要に応じて、資格証又は研修修了証等の写しを添付資料として提出してください。
A46: (Ａ) 「健康診断」については、従業者に受診させた最新の受診日を記入してください。
A47: なお、実地指導当日に、健康診断を受けたことが分かる書類を確認するため、受診結果等の写しを準備しておいてください。
A49: (B) 「個人情報漏洩に関する誓約書」については、従業者が業務上知り得た利用者等の個人情報を漏らすことがないようにするための措置として、法人等に提出させている誓約書の
A50: 有無について記入してください。
A51: なお、実地指導当日に、個人情報漏洩に関する措置が行われていることが分かる書類を確認するため、誓約書等の写しを準備しておいてください。
B53: (7) 従業者の氏名を記入してください。
B55: (8) 申請する事業に係る従業者（管理者を含む。）の1ヶ月分の勤務時間数を入力してください。（別シートの「シフト記号表」を作成し、シフト記号を選択してください。）
B56: ※指定基準の確認に際しては、4週分の入力で可とします。実績を表す場合には、暦月で入力ください。
B58: (9) 従業者ごとに、合計勤務時間数が自動計算されますので、誤りがないか確認してください。
B59: ※入力することができる時間数は、当該事業所において常勤の従業者が勤務すべき勤務時間数を上限とします。
...

Sheet 【記入例】居宅介護支援
C1: （参考様式） | G1: 従業者の勤務の体制及び勤務形態一覧表 | AR1: サービス種別 | AS1: ( | AT1: 居宅介護支援 | BI1: ）
AA2: 令和 | AB2: 3 | AD2: ( | AE2: =IF(AB2=0,"",YEAR(DATE(2018+AB2,1,1))) -> 2021 | AG2: ) | AH2: 年 | AI2: 7 | AK2: 月 | AR2: 事業所名 | AS2: ( | AT2: 〇△ケアプランセンター | BI2: ）
BF3: (1) | BG3: 実地指導用
B4: (2)事業所の営業日
B5: 月 | C5: 火 | D5: 水 | E5: 木 | F5: 金 | G5: 土 | H5: 日 | I5: 祝 | K5: 営業時間 | AK5: (3)事業所における常勤の従業者が勤務すべき時間数 | AW5: 8 | AY5: 時間/日 | BA5: 40 | BC5: 時間/週 | BE5: 160 | BG5: 時間/月
B6: ○ | C6: ○ | D6: ○ | E6: ○ | F6: ○ | G6: － | H6: － | I6: ○ | J6: ⇒ | K6: 0.375 | N6: ～ | O6: 0.72916667 | R6: （計 | S6: =(O6-K6)*24 -> 8.5 | U6: 時間）
J7: ⇒ | N7: ～ | R7: （計 | S7: =(O7-K7)*24 -> 0 | U7: 時間） | BB7: 当月の日数 | BE7: =DAY(EOMONTH(DATE(AE2,AI2,1),0)) -> 31 | BG7: 日
B8: 備考（休業日等）
B9: 盆（8/12～8/16）、年末年始（12/30～1/3） | AV9: (4) 利用者数（新規の場合は推定数） | BE9: 100 | BG9: 人
B11: No | C11: (4) 職種 | E11: (5) 勤務 形態 | G11: (6) 資格 | L11: (7) 氏 名 | P11: (A) 健康診断 （最終受検日を記入） | R11: (B) 個人情報漏洩に関する誓約書 | W11: (8) 勤 務 時 間 数 | BB11: =IF(BG3="計画","(9)1～4週目の勤務時間数合計","(9)1か月の勤務時間数合計") -> (9)1か月の勤務時間数合計 | BD11: (10) 週平均 勤務時間数 | BF11: (11) 兼務状況 （兼務先／兼務する職務の内容 ／兼務先の勤務時間数）
W12: 1週目 | AD12: 2週目 | AK12: 3週目 | AR12: 4週目 | AY12: 5週目
W13: =DAY(DATE($AE$2,$AI$2,1)) -> 1 | X13: =DAY(DATE($AE$2,$AI$2,2)) -> 2 | Y13: =DAY(DATE($AE$2,$AI$2,3)) -> 3 | Z13: =DAY(DATE($AE$2,$AI$2,4)) -> 4 | AA13: =DAY(DATE($AE$2,$AI$2,5)) -> 5 | AB13: =DAY(DATE($AE$2,$AI$2,6)) -> 6 | AC13: =DAY(DATE($AE$2,$AI$2,7)) -> 7 | AD13: =DAY(DATE($AE$2,$AI$2,8)) -> 8 | AE13: =DAY(DATE($AE$2,$AI$2,9)) -> 9 | AF13: =DAY(DATE($AE$2,$AI$2,10)) -> 10 | AG13: =DAY(DATE($AE$2,$AI$2,11)) -> 11 | AH13: =DAY(DATE($AE$2,$AI$2,12)) -> 12 | AI13: =DAY(DATE($AE$2,$AI$2,13)) -> 13 | AJ13: =DAY(DATE($AE$2,$AI$2,14)) -> 14 | AK13: =DAY(DATE($AE$2,$AI$2,15)) -> 15 | AL13: =DAY(DATE($AE$2,$AI$2,16)) -> 16 | AM13: =DAY(DATE($AE$2,$AI$2,17)) -> 17 | AN13: =DAY(DATE($AE$2,$AI$2,18)) -> 18 | AO13: =DAY(DATE($AE$2,$AI$2,19)) -> 19 | AP13: =DAY(DATE($AE$2,$AI$2,20)) -> 20 | AQ13: =DAY(DATE($AE$2,$AI$2,21)) -> 21 | AR13: =DAY(DATE($AE$2,$AI$2,22)) -> 22 | AS13: =DAY(DATE($AE$2,$AI$2,23)) -> 23 | AT13: =DAY(DATE($AE$2,$AI$2,24)) -> 24 | AU13: =DAY(DATE($AE$2,$AI$2,25)) -> 25 | AV13: =DAY(DATE($AE$2,$AI$2,26)) -> 26 | AW13: =DAY(DATE($AE$2,$AI$2,27)) -> 27 | AX13: =DAY(DATE($AE$2,$AI$2,28)) -> 28 | AY13: =IF(BG3="実地指導用",IF(DAY(DATE($AE$2,$AI$2,29))=29,29,""),"") -> 29 | AZ13: =IF(BG3="実地指導用",IF(DAY(DATE($AE$2,$AI$2,30))=30,30,""),"") -> 30 | BA13: =IF(BG3="実地指導用",IF(DAY(DATE($AE$2,$AI$2,31))=31,31,""),"") -> 31
W14: =WEEKDAY(DATE($AE$2,$AI$2,1)) -> 5 | X14: =WEEKDAY(DATE($AE$2,$AI$2,2)) -> 6 | Y14: =WEEKDAY(DATE($AE$2,$AI$2,3)) -> 7 | Z14: =WEEKDAY(DATE($AE$2,$AI$2,4)) -> 1 | AA14: =WEEKDAY(DATE($AE$2,$AI$2,5)) -> 2 | AB14: =WEEKDAY(DATE($AE$2,$AI$2,6)) -> 3 | AC14: =WEEKDAY(DATE($AE$2,$AI$2,7)) -> 4 | AD14: =WEEKDAY(DATE($AE$2,$AI$2,8)) -> 5 | AE14: =WEEKDAY(DATE($AE$2,$AI$2,9)) -> 6 | AF14: =WEEKDAY(DATE($AE$2,$AI$2,10)) -> 7 | AG14: =WEEKDAY(DATE($AE$2,$AI$2,11)) -> 1 | AH14: =WEEKDAY(DATE($AE$2,$AI$2,12)) -> 2 | AI14: =WEEKDAY(DATE($AE$2,$AI$2,13)) -> 3 | AJ14: =WEEKDAY(DATE($AE$2,$AI$2,14)) -> 4 | AK14: =WEEKDAY(DATE($AE$2,$AI$2,15)) -> 5 | AL14: =WEEKDAY(DATE($AE$2,$AI$2,16)) -> 6 | AM14: =WEEKDAY(DATE($AE$2,$AI$2,17)) -> 7 | AN14: =WEEKDAY(DATE($AE$2,$AI$2,18)) -> 1 | AO14: =WEEKDAY(DATE($AE$2,$AI$2,19)) -> 2 | AP14: =WEEKDAY(DATE($AE$2,$AI$2,20)) -> 3 | AQ14: =WEEKDAY(DATE($AE$2,$AI$2,21)) -> 4 | AR14: =WEEKDAY(DATE($AE$2,$AI$2,22)) -> 5 | AS14: =WEEKDAY(DATE($AE$2,$AI$2,23)) -> 6 | AT14: =WEEKDAY(DATE($AE$2,$AI$2,24)) -> 7 | AU14: =WEEKDAY(DATE($AE$2,$AI$2,25)) -> 1 | AV14: =WEEKDAY(DATE($AE$2,$AI$2,26)) -> 2 | AW14: =WEEKDAY(DATE($AE$2,$AI$2,27)) -> 3 | AX14: =WEEKDAY(DATE($AE$2,$AI$2,28)) -> 4 | AY14: =IF(AY13=29,WEEKDAY(DATE($AE$2,$AI$2,29)),0) -> 5 | AZ14: =IF(AZ13=30,WEEKDAY(DATE($AE$2,$AI$2,30)),0) -> 6 | BA14: =IF(BA13=31,WEEKDAY(DATE($AE$2,$AI$2,31)),0) -> 7
W15: =IF(W14=1,"日",IF(W14=2,"月",IF(W14=3,"火",IF(W14=4,"水",IF(W14=5,"木",IF(W14=6,"金","土")))))) -> 木 | X15: =IF(X14=1,"日",IF(X14=2,"月",IF(X14=3,"火",IF(X14=4,"水",IF(X14=5,"木",IF(X14=6,"金","土")))))) -> 金 | Y15: =IF(Y14=1,"日",IF(Y14=2,"月",IF(Y14=3,"火",IF(Y14=4,"水",IF(Y14=5,"木",IF(Y14=6,"金","土")))))) -> 土 | Z15: =IF(Z14=1,"日",IF(Z14=2,"月",IF(Z14=3,"火",IF(Z14=4,"水",IF(Z14=5,"木",IF(Z14=6,"金","土")))))) -> 日 | AA15: =IF(AA14=1,"日",IF(AA14=2,"月",IF(AA14=3,"火",IF(AA14=4,"水",IF(AA14=5,"木",IF(AA14=6,"金","土")))))) -> 月 | AB15: =IF(AB14=1,"日",IF(AB14=2,"月",IF(AB14=3,"火",IF(AB14=4,"水",IF(AB14=5,"木",IF(AB14=6,"金","土")))))) -> 火 | AC15: =IF(AC14=1,"日",IF(AC14=2,"月",IF(AC14=3,"火",IF(AC14=4,"水",IF(AC14=5,"木",IF(AC14=6,"金","土")))))) -> 水 | AD15: =IF(AD14=1,"日",IF(AD14=2,"月",IF(AD14=3,"火",IF(AD14=4,"水",IF(AD14=5,"木",IF(AD14=6,"金","土")))))) -> 木 | ... AX15: =IF(AX14=1,"日",IF(AX14=2,"月",IF(AX14=3,"火",IF(AX14=4,"水",IF(AX14=5,"木",IF(AX14=6,"金","土")))))) -> 水 | AY15: =IF(AY14=1,"日",IF(AY14=2,"月",IF(AY14=3,"火",IF(AY14=4,"水",IF(AY14=5,"木",IF(AY14=6,"金",IF(AY14=0,"","土"))))))) -> 木 | AZ15: =IF(AZ14=1,"日",IF(AZ14=2,"月",IF(AZ14=3,"火",IF(AZ14=4,"水",IF(AZ14=5,"木",IF(AZ14=6,"金",IF(AZ14=0,"","土"))))))) -> 金 | BA15: =IF(BA14=1,"日",IF(BA14=2,"月",IF(BA14=3,"火",IF(BA14=4,"水",IF(BA14=5,"木",IF(BA14=6,"金",IF(BA14=0,"","土"))))))) -> 土
B16: 1 | C16: 管理者 | E16: B | G16: 主任介護支援専門員 | L16: 法人 タロウ | P16: 44317 | R16: 有 | T16: シフト記号 | W16: a | X16: a | AA16: a | AB16: a | AC16: a | AD16: a | AE16: a | AH16: a | AI16: a | AJ16: a | AK16: a | AL16: a | AO16: a | AP16: a | AQ16: a | AR16: a | AS16: a | AV16: a | AW16: a | AX16: a | AY16: a | AZ16: a | BB16: =IF($BG$3="計画",SUM(W17:AX17),IF($BG$3="実地指導用",SUM(W17:BA17),"")) -> 176 | BD16: =IF($BG$3="計画",BB16/4,IF($BG$3="実地指導用",BB16/($BE$7/7),"")) -> 39.741935
T17: 勤務時間数 | W17: =IF(W16="","",VLOOKUP(W16,'【記入例】シフト記号表（勤務時間帯)'!$C$4:$K$35,9,FALSE)) -> 8 | X17: =IF(X16="","",VLOOKUP(X16,'【記入例】シフト記号表（勤務時間帯)'!$C$4:$K$35,9,FALSE)) -> 8 | Y17: =IF(Y16="","",VLOOKUP(Y16,'【記入例】シフト記号表（勤務時間帯)'!$C$4:$K$35,9,FALSE)) | Z17: =IF(Z16="","",VLOOKUP(Z16,'【記入例】シフト記号表（勤務時間帯)'!$C$4:$K$35,9,FALSE)) | AA17: =IF(AA16="","",VLOOKUP(AA16,'【記入例】シフト記号表（勤務時間帯)'!$C$4:$K$35,9,FALSE)) -> 8 | AB17: =IF(AB16="","",VLOOKUP(AB16,'【記入例】シフト記号表（勤務時間帯)'!$C$4:$K$35,9,FALSE)) -> 8 | AC17: =IF(AC16="","",VLOOKUP(AC16,'【記入例】シフト記号表（勤務時間帯)'!$C$4:$K$35,9,FALSE)) -> 8 | AD17: =IF(AD16="","",VLOOKUP(AD16,'【記入例】シフト記号表（勤務時間帯)'!$C$4:$K$35,9,FALSE)) -> 8 | ... BA17: =IF(BA16="","",VLOOKUP(BA16,'【記入例】シフト記号表（勤務時間帯)'!$C$4:$K$35,9,FALSE))
B18: =B16+1 -> 2 | C18: 介護支援専門員 | E18: A | G18: 介護支援専門員 | L18: 法人 ジロウ | P18: 44287 | R18: 有 | T18: シフト記号 | W18: a | X18: a | AA18: 休 | AB18: a | AC18: a | AD18: a | AE18: a | AH18: a | AI18: a | AJ18: a | AK18: a | AL18: a | AO18: a | AP18: a | AQ18: a | AR18: 出 | AS18: 出 | AV18: a | AW18: a | AX18: a | AY18: a | AZ18: a | BB18: =IF($BG$3="計画",SUM(W19:AX19),IF($BG$3="実地指導用",SUM(W19:BA19),"")) -> 152 | BD18: =IF($BG$3="計画",BB18/4,IF($BG$3="実地指導用",BB18/($BE$7/7),"")) -> 34.322581
T19: 勤務時間数 | W19: =IF(W18="","",VLOOKUP(W18,'【記入例】シフト記号表（勤務時間帯)'!$C$4:$K$35,9,FALSE)) -> 8 | X19: =IF(X18="","",VLOOKUP(X18,'【記入例】シフト記号表（勤務時間帯)'!$C$4:$K$35,9,FALSE)) -> 8 | Y19: =IF(Y18="","",VLOOKUP(Y18,'【記入例】シフト記号表（勤務時間帯)'!$C$4:$K$35,9,FALSE)) | Z19: =IF(Z18="","",VLOOKUP(Z18,'【記入例】シフト記号表（勤務時間帯)'!$C$4:$K$35,9,FALSE)) | AA19: =IF(AA18="","",VLOOKUP(AA18,'【記入例】シフト記号表（勤務時間帯)'!$C$4:$K$35,9,FALSE)) -> - | AB19: =IF(AB18="","",VLOOKUP(AB18,'【記入例】シフト記号表（勤務時間帯)'!$C$4:$K$35,9,FALSE)) -> 8 | AC19: =IF(AC18="","",VLOOKUP(AC18,'【記入例】シフト記号表（勤務時間帯)'!$C$4:$K$35,9,FALSE)) -> 8 | AD19: =IF(AD18="","",VLOOKUP(AD18,'【記入例】シフト記号表（勤務時間帯)'!$C$4:$K$35,9,FALSE)) -> 8 | ... BA19: =IF(BA18="","",VLOOKUP(BA18,'【記入例】シフト記号表（勤務時間帯)'!$C$4:$K$35,9,FALSE))
B20: =B18+1 -> 3 | C20: 介護支援専門員 | E20: A | G20: 介護支援専門員 | L20: 法人 花子 | P20: 44316 | R20: 有 | T20: シフト記号 | W20: a | X20: a | AA20: a | AB20: a | AC20: a | AD20: a | AE20: a | AH20: 研 | AI20: 研 | AJ20: 研 | AK20: a | AL20: a | AO20: a | AP20: a | AQ20: a | AR20: a | AS20: a | AV20: a | AW20: a | AX20: 休 | AY20: a | AZ20: a | BB20: =IF($BG$3="計画",SUM(W21:AX21),IF($BG$3="実地指導用",SUM(W21:BA21),"")) -> 144 | BD20: =IF($BG$3="計画",BB20/4,IF($BG$3="実地指導用",BB20/($BE$7/7),"")) -> 32.516129
T21: 勤務時間数 | W21: =IF(W20="","",VLOOKUP(W20,'【記入例】シフト記号表（勤務時間帯)'!$C$4:$K$35,9,FALSE)) -> 8 | X21: =IF(X20="","",VLOOKUP(X20,'【記入例】シフト記号表（勤務時間帯)'!$C$4:$K$35,9,FALSE)) -> 8 | Y21: =IF(Y20="","",VLOOKUP(Y20,'【記入例】シフト記号表（勤務時間帯)'!$C$4:$K$35,9,FALSE)) | Z21: =IF(Z20="","",VLOOKUP(Z20,'【記入例】シフト記号表（勤務時間帯)'!$C$4:$K$35,9,FALSE)) | AA21: =IF(AA20="","",VLOOKUP(AA20,'【記入例】シフト記号表（勤務時間帯)'!$C$4:$K$35,9,FALSE)) -> 8 | AB21: =IF(AB20="","",VLOOKUP(AB20,'【記入例】シフト記号表（勤務時間帯)'!$C$4:$K$35,9,FALSE)) -> 8 | AC21: =IF(AC20="","",VLOOKUP(AC20,'【記入例】シフト記号表（勤務時間帯)'!$C$4:$K$35,9,FALSE)) -> 8 | AD21: =IF(AD20="","",VLOOKUP(AD20,'【記入例】シフト記号表（勤務時間帯)'!$C$4:$K$35,9,FALSE)) -> 8 | ... BA21: =IF(BA20="","",VLOOKUP(BA20,'【記入例】シフト記号表（勤務時間帯)'!$C$4:$K$35,9,FALSE))
B22: =B20+1 -> 4 | C22: 介護支援専門員 | E22: C | G22: 介護支援専門員 | L22: 法人 サブロウ | P22: 44317 | R22: 有 | T22: シフト記号 | W22: d | X22: d | AA22: e | AB22: e | AE22: f | AH22: c | AI22: 休 | AO22: c | AP22: c | AQ22: e | AS22: d | AV22: f | AX22: f | AZ22: d | BB22: =IF($BG$3="計画",SUM(W23:AX23),IF($BG$3="実地指導用",SUM(W23:BA23),"")) -> 64 | BD22: =IF($BG$3="計画",BB22/4,IF($BG$3="実地指導用",BB22/($BE$7/7),"")) -> 14.451613
T23: 勤務時間数 | W23: =IF(W22="","",VLOOKUP(W22,'【記入例】シフト記号表（勤務時間帯)'!$C$4:$K$35,9,FALSE)) -> 4 | X23: =IF(X22="","",VLOOKUP(X22,'【記入例】シフト記号表（勤務時間帯)'!$C$4:$K$35,9,FALSE)) -> 4 | Y23: =IF(Y22="","",VLOOKUP(Y22,'【記入例】シフト記号表（勤務時間帯)'!$C$4:$K$35,9,FALSE)) | Z23: =IF(Z22="","",VLOOKUP(Z22,'【記入例】シフト記号表（勤務時間帯)'!$C$4:$K$35,9,FALSE)) | AA23: =IF(AA22="","",VLOOKUP(AA22,'【記入例】シフト記号表（勤務時間帯)'!$C$4:$K$35,9,FALSE)) -> 4 | AB23: =IF(AB22="","",VLOOKUP(AB22,'【記入例】シフト記号表（勤務時間帯)'!$C$4:$K$35,9,FALSE)) -> 4 | AC23: =IF(AC22="","",VLOOKUP(AC22,'【記入例】シフト記号表（勤務時間帯)'!$C$4:$K$35,9,FALSE)) | AD23: =IF(AD22="","",VLOOKUP(AD22,'【記入例】シフト記号表（勤務時間帯)'!$C$4:$K$35,9,FALSE)) | ... BA23: =IF(BA22="","",VLOOKUP(BA22,'【記入例】シフト記号表（勤務時間帯)'!$C$4:$K$35,9,FALSE))
B24: =B22+1 -> 5 | T24: シフト記号 | BB24: =IF($BG$3="計画",SUM(W25:AX25),IF($BG$3="実地指導用",SUM(W25:BA25),"")) -> 0 | BD24: =IF($BG$3="計画",BB24/4,IF($BG$3="実地指導用",BB24/($BE$7/7),"")) -> 0
T25: 勤務時間数 | W25: =IF(W24="","",VLOOKUP(W24,'【記入例】シフト記号表（勤務時間帯)'!$C$4:$K$35,9,FALSE)) | X25: =IF(X24="","",VLOOKUP(X24,'【記入例】シフト記号表（勤務時間帯)'!$C$4:$K$35,9,FALSE)) | Y25: =IF(Y24="","",VLOOKUP(Y24,'【記入例】シフト記号表（勤務時間帯)'!$C$4:$K$35,9,FALSE)) | Z25: =IF(Z24="","",VLOOKUP(Z24,'【記入例】シフト記号表（勤務時間帯)'!$C$4:$K$35,9,FALSE)) | AA25: =IF(AA24="","",VLOOKUP(AA24,'【記入例】シフト記号表（勤務時間帯)'!$C$4:$K$35,9,FALSE)) | AB25: =IF(AB24="","",VLOOKUP(AB24,'【記入例】シフト記号表（勤務時間帯)'!$C$4:$K$35,9,FALSE)) | AC25: =IF(AC24="","",VLOOKUP(AC24,'【記入例】シフト記号表（勤務時間帯)'!$C$4:$K$35,9,FALSE)) | AD25: =IF(AD24="","",VLOOKUP(AD24,'【記入例】シフト記号表（勤務時間帯)'!$C$4:$K$35,9,FALSE)) | ... BA25: =IF(BA24="","",VLOOKUP(BA24,'【記入例】シフト記号表（勤務時間帯)'!$C$4:$K$35,9,FALSE))
B26: =B24+1 -> 6 | T26: シフト記号 | BB26: =IF($BG$3="計画",SUM(W27:AX27),IF($BG$3="実地指導用",SUM(W27:BA27),"")) -> 0 | BD26: =IF($BG$3="計画",BB26/4,IF($BG$3="実地指導用",BB26/($BE$7/7),"")) -> 0
T27: 勤務時間数 | W27: =IF(W26="","",VLOOKUP(W26,'【記入例】シフト記号表（勤務時間帯)'!$C$4:$K$35,9,FALSE)) | X27: =IF(X26="","",VLOOKUP(X26,'【記入例】シフト記号表（勤務時間帯)'!$C$4:$K$35,9,FALSE)) | Y27: =IF(Y26="","",VLOOKUP(Y26,'【記入例】シフト記号表（勤務時間帯)'!$C$4:$K$35,9,FALSE)) | Z27: =IF(Z26="","",VLOOKUP(Z26,'【記入例】シフト記号表（勤務時間帯)'!$C$4:$K$35,9,FALSE)) | AA27: =IF(AA26="","",VLOOKUP(AA26,'【記入例】シフト記号表（勤務時間帯)'!$C$4:$K$35,9,FALSE)) | AB27: =IF(AB26="","",VLOOKUP(AB26,'【記入例】シフト記号表（勤務時間帯)'!$C$4:$K$35,9,FALSE)) | AC27: =IF(AC26="","",VLOOKUP(AC26,'【記入例】シフト記号表（勤務時間帯)'!$C$4:$K$35,9,FALSE)) | AD27: =IF(AD26="","",VLOOKUP(AD26,'【記入例】シフト記号表（勤務時間帯)'!$C$4:$K$35,9,FALSE)) | ... BA27: =IF(BA26="","",VLOOKUP(BA26,'【記入例】シフト記号表（勤務時間帯)'!$C$4:$K$35,9,FALSE))
B28: =B26+1 -> 7 | T28: シフト記号 | BB28: =IF($BG$3="計画",SUM(W29:AX29),IF($BG$3="実地指導用",SUM(W29:BA29),"")) -> 0 | BD28: =IF($BG$3="計画",BB28/4,IF($BG$3="実地指導用",BB28/($BE$7/7),"")) -> 0
T29: 勤務時間数 | W29: =IF(W28="","",VLOOKUP(W28,'【記入例】シフト記号表（勤務時間帯)'!$C$4:$K$35,9,FALSE)) | X29: =IF(X28="","",VLOOKUP(X28,'【記入例】シフト記号表（勤務時間帯)'!$C$4:$K$35,9,FALSE)) | Y29: =IF(Y28="","",VLOOKUP(Y28,'【記入例】シフト記号表（勤務時間帯)'!$C$4:$K$35,9,FALSE)) | Z29: =IF(Z28="","",VLOOKUP(Z28,'【記入例】シフト記号表（勤務時間帯)'!$C$4:$K$35,9,FALSE)) | AA29: =IF(AA28="","",VLOOKUP(AA28,'【記入例】シフト記号表（勤務時間帯)'!$C$4:$K$35,9,FALSE)) | AB29: =IF(AB28="","",VLOOKUP(AB28,'【記入例】シフト記号表（勤務時間帯)'!$C$4:$K$35,9,FALSE)) | AC29: =IF(AC28="","",VLOOKUP(AC28,'【記入例】シフト記号表（勤務時間帯)'!$C$4:$K$35,9,FALSE)) | AD29: =IF(AD28="","",VLOOKUP(AD28,'【記入例】シフト記号表（勤務時間帯)'!$C$4:$K$35,9,FALSE)) | ... BA29: =IF(BA28="","",VLOOKUP(BA28,'【記入例】シフト記号表（勤務時間帯)'!$C$4:$K$35,9,FALSE))
B30: =B28+1 -> 8 | T30: シフト記号 | BB30: =IF($BG$3="計画",SUM(W31:AX31),IF($BG$3="実地指導用",SUM(W31:BA31),"")) -> 0 | BD30: =IF($BG$3="計画",BB30/4,IF($BG$3="実地指導用",BB30/($BE$7/7),"")) -> 0
T31: 勤務時間数 | W31: =IF(W30="","",VLOOKUP(W30,'【記入例】シフト記号表（勤務時間帯)'!$C$4:$K$35,9,FALSE)) | X31: =IF(X30="","",VLOOKUP(X30,'【記入例】シフト記号表（勤務時間帯)'!$C$4:$K$35,9,FALSE)) | Y31: =IF(Y30="","",VLOOKUP(Y30,'【記入例】シフト記号表（勤務時間帯)'!$C$4:$K$35,9,FALSE)) | Z31: =IF(Z30="","",VLOOKUP(Z30,'【記入例】シフト記号表（勤務時間帯)'!$C$4:$K$35,9,FALSE)) | AA31: =IF(AA30="","",VLOOKUP(AA30,'【記入例】シフト記号表（勤務時間帯)'!$C$4:$K$35,9,FALSE)) | AB31: =IF(AB30="","",VLOOKUP(AB30,'【記入例】シフト記号表（勤務時間帯)'!$C$4:$K$35,9,FALSE)) | AC31: =IF(AC30="","",VLOOKUP(AC30,'【記入例】シフト記号表（勤務時間帯)'!$C$4:$K$35,9,FALSE)) | AD31: =IF(AD30="","",VLOOKUP(AD30,'【記入例】シフト記号表（勤務時間帯)'!$C$4:$K$35,9,FALSE)) | ... BA31: =IF(BA30="","",VLOOKUP(BA30,'【記入例】シフト記号表（勤務時間帯)'!$C$4:$K$35,9,FALSE))
B32: =B30+1 -> 9 | T32: シフト記号 | BB32: =IF($BG$3="計画",SUM(W33:AX33),IF($BG$3="実地指導用",SUM(W33:BA33),"")) -> 0 | BD32: =IF($BG$3="計画",BB32/4,IF($BG$3="実地指導用",BB32/($BE$7/7),"")) -> 0
T33: 勤務時間数 | W33: =IF(W32="","",VLOOKUP(W32,'【記入例】シフト記号表（勤務時間帯)'!$C$4:$K$35,9,FALSE)) | X33: =IF(X32="","",VLOOKUP(X32,'【記入例】シフト記号表（勤務時間帯)'!$C$4:$K$35,9,FALSE)) | Y33: =IF(Y32="","",VLOOKUP(Y32,'【記入例】シフト記号表（勤務時間帯)'!$C$4:$K$35,9,FALSE)) | Z33: =IF(Z32="","",VLOOKUP(Z32,'【記入例】シフト記号表（勤務時間帯)'!$C$4:$K$35,9,FALSE)) | AA33: =IF(AA32="","",VLOOKUP(AA32,'【記入例】シフト記号表（勤務時間帯)'!$C$4:$K$35,9,FALSE)) | AB33: =IF(AB32="","",VLOOKUP(AB32,'【記入例】シフト記号表（勤務時間帯)'!$C$4:$K$35,9,FALSE)) | AC33: =IF(AC32="","",VLOOKUP(AC32,'【記入例】シフト記号表（勤務時間帯)'!$C$4:$K$35,9,FALSE)) | AD33: =IF(AD32="","",VLOOKUP(AD32,'【記入例】シフト記号表（勤務時間帯)'!$C$4:$K$35,9,FALSE)) | ... BA33: =IF(BA32="","",VLOOKUP(BA32,'【記入例】シフト記号表（勤務時間帯)'!$C$4:$K$35,9,FALSE))
B34: =B32+1 -> 10 | T34: シフト記号 | BB34: =IF($BG$3="計画",SUM(W35:AX35),IF($BG$3="実地指導用",SUM(W35:BA35),"")) -> 0 | BD34: =IF($BG$3="計画",BB34/4,IF($BG$3="実地指導用",BB34/($BE$7/7),"")) -> 0
T35: 勤務時間数 | W35: =IF(W34="","",VLOOKUP(W34,'【記入例】シフト記号表（勤務時間帯)'!$C$4:$K$35,9,FALSE)) | X35: =IF(X34="","",VLOOKUP(X34,'【記入例】シフト記号表（勤務時間帯)'!$C$4:$K$35,9,FALSE)) | Y35: =IF(Y34="","",VLOOKUP(Y34,'【記入例】シフト記号表（勤務時間帯)'!$C$4:$K$35,9,FALSE)) | Z35: =IF(Z34="","",VLOOKUP(Z34,'【記入例】シフト記号表（勤務時間帯)'!$C$4:$K$35,9,FALSE)) | AA35: =IF(AA34="","",VLOOKUP(AA34,'【記入例】シフト記号表（勤務時間帯)'!$C$4:$K$35,9,FALSE)) | AB35: =IF(AB34="","",VLOOKUP(AB34,'【記入例】シフト記号表（勤務時間帯)'!$C$4:$K$35,9,FALSE)) | AC35: =IF(AC34="","",VLOOKUP(AC34,'【記入例】シフト記号表（勤務時間帯)'!$C$4:$K$35,9,FALSE)) | AD35: =IF(AD34="","",VLOOKUP(AD34,'【記入例】シフト記号表（勤務時間帯)'!$C$4:$K$35,9,FALSE)) | ... BA35: =IF(BA34="","",VLOOKUP(BA34,'【記入例】シフト記号表（勤務時間帯)'!$C$4:$K$35,9,FALSE))
B36: =B34+1 -> 11 | T36: シフト記号 | BB36: =IF($BG$3="計画",SUM(W37:AX37),IF($BG$3="実地指導用",SUM(W37:BA37),"")) -> 0 | BD36: =IF($BG$3="計画",BB36/4,IF($BG$3="実地指導用",BB36/($BE$7/7),"")) -> 0
T37: 勤務時間数 | W37: =IF(W36="","",VLOOKUP(W36,'【記入例】シフト記号表（勤務時間帯)'!$C$4:$K$35,9,FALSE)) | X37: =IF(X36="","",VLOOKUP(X36,'【記入例】シフト記号表（勤務時間帯)'!$C$4:$K$35,9,FALSE)) | Y37: =IF(Y36="","",VLOOKUP(Y36,'【記入例】シフト記号表（勤務時間帯)'!$C$4:$K$35,9,FALSE)) | Z37: =IF(Z36="","",VLOOKUP(Z36,'【記入例】シフト記号表（勤務時間帯)'!$C$4:$K$35,9,FALSE)) | AA37: =IF(AA36="","",VLOOKUP(AA36,'【記入例】シフト記号表（勤務時間帯)'!$C$4:$K$35,9,FALSE)) | AB37: =IF(AB36="","",VLOOKUP(AB36,'【記入例】シフト記号表（勤務時間帯)'!$C$4:$K$35,9,FALSE)) | AC37: =IF(AC36="","",VLOOKUP(AC36,'【記入例】シフト記号表（勤務時間帯)'!$C$4:$K$35,9,FALSE)) | AD37: =IF(AD36="","",VLOOKUP(AD36,'【記入例】シフト記号表（勤務時間帯)'!$C$4:$K$35,9,FALSE)) | ... BA37: =IF(BA36="","",VLOOKUP(BA36,'【記入例】シフト記号表（勤務時間帯)'!$C$4:$K$35,9,FALSE))
B38: =B36+1 -> 12 | T38: シフト記号 | BB38: =IF($BG$3="計画",SUM(W39:AX39),IF($BG$3="実地指導用",SUM(W39:BA39),"")) -> 0 | BD38: =IF($BG$3="計画",BB38/4,IF($BG$3="実地指導用",BB38/($BE$7/7),"")) -> 0
T39: 勤務時間数 | W39: =IF(W38="","",VLOOKUP(W38,'【記入例】シフト記号表（勤務時間帯)'!$C$4:$K$35,9,FALSE)) | X39: =IF(X38="","",VLOOKUP(X38,'【記入例】シフト記号表（勤務時間帯)'!$C$4:$K$35,9,FALSE)) | Y39: =IF(Y38="","",VLOOKUP(Y38,'【記入例】シフト記号表（勤務時間帯)'!$C$4:$K$35,9,FALSE)) | Z39: =IF(Z38="","",VLOOKUP(Z38,'【記入例】シフト記号表（勤務時間帯)'!$C$4:$K$35,9,FALSE)) | AA39: =IF(AA38="","",VLOOKUP(AA38,'【記入例】シフト記号表（勤務時間帯)'!$C$4:$K$35,9,FALSE)) | AB39: =IF(AB38="","",VLOOKUP(AB38,'【記入例】シフト記号表（勤務時間帯)'!$C$4:$K$35,9,FALSE)) | AC39: =IF(AC38="","",VLOOKUP(AC38,'【記入例】シフト記号表（勤務時間帯)'!$C$4:$K$35,9,FALSE)) | AD39: =IF(AD38="","",VLOOKUP(AD38,'【記入例】シフト記号表（勤務時間帯)'!$C$4:$K$35,9,FALSE)) | ... BA39: =IF(BA38="","",VLOOKUP(BA38,'【記入例】シフト記号表（勤務時間帯)'!$C$4:$K$35,9,FALSE))
B40: =B38+1 -> 13 | T40: シフト記号 | BB40: =IF($BG$3="計画",SUM(W41:AX41),IF($BG$3="実地指導用",SUM(W41:BA41),"")) -> 0 | BD40: =IF($BG$3="計画",BB40/4,IF($BG$3="実地指導用",BB40/($BE$7/7),"")) -> 0
T41: 勤務時間数 | W41: =IF(W40="","",VLOOKUP(W40,'【記入例】シフト記号表（勤務時間帯)'!$C$4:$K$35,9,FALSE)) | X41: =IF(X40="","",VLOOKUP(X40,'【記入例】シフト記号表（勤務時間帯)'!$C$4:$K$35,9,FALSE)) | Y41: =IF(Y40="","",VLOOKUP(Y40,'【記入例】シフト記号表（勤務時間帯)'!$C$4:$K$35,9,FALSE)) | Z41: =IF(Z40="","",VLOOKUP(Z40,'【記入例】シフト記号表（勤務時間帯)'!$C$4:$K$35,9,FALSE)) | AA41: =IF(AA40="","",VLOOKUP(AA40,'【記入例】シフト記号表（勤務時間帯)'!$C$4:$K$35,9,FALSE)) | AB41: =IF(AB40="","",VLOOKUP(AB40,'【記入例】シフト記号表（勤務時間帯)'!$C$4:$K$35,9,FALSE)) | AC41: =IF(AC40="","",VLOOKUP(AC40,'【記入例】シフト記号表（勤務時間帯)'!$C$4:$K$35,9,FALSE)) | AD41: =IF(AD40="","",VLOOKUP(AD40,'【記入例】シフト記号表（勤務時間帯)'!$C$4:$K$35,9,FALSE)) | ... BA41: =IF(BA40="","",VLOOKUP(BA40,'【記入例】シフト記号表（勤務時間帯)'!$C$4:$K$35,9,FALSE))
...

Sheet 【記入例】シフト記号表（勤務時間帯)
B1: ≪要 提出≫
B2: ■シフト記号表（勤務時間帯） | E2: ※24時間表記 | I2: 休憩時間1時間は「1:00」、休憩時間45分は「00:45」と入力してください。
B3: （記号の意味） | C3: 記号 | E3: 始業時間 | G3: 終業時間 | I3: うち、休憩時間 | K3: 勤務時間
B4: 休：休暇 | C4: 休 | D4: ： | E4: - | F4: ～ | G4: - | H4: ( | I4: - | J4: ) | K4: -
B5: 出：出張 | C5: 出 | D5: ： | E5: - | F5: ～ | G5: - | H5: ( | I5: - | J5: ) | K5: -
B6: 研：研修 | C6: 研 | D6: ： | E6: - | F6: ～ | G6: - | H6: ( | I6: - | J6: ) | K6: -
C7: a | D7: ： | E7: 0.375 | F7: ～ | G7: 0.75 | H7: ( | I7: 0.041666667 | J7: ) | K7: =(G7-E7-I7)*24 -> 8
C8: b | D8: ： | E8: 0.29166667 | F8: ～ | G8: 0.66666667 | H8: ( | I8: 0.041666667 | J8: ) | K8: =(G8-E8-I8)*24 -> 8
C9: c | D9: ： | E9: 0.33333333 | F9: ～ | G9: 0.70833333 | H9: ( | I9: 0.041666667 | J9: ) | K9: =(G9-E9-I9)*24 -> 8
C10: d | D10: ： | E10: 0.33333333 | F10: ～ | G10: 0.5 | H10: ( | I10: 0 | J10: ) | K10: =(G10-E10-I10)*24 -> 4
C11: e | D11: ： | E11: 0.54166667 | F11: ～ | G11: 0.70833333 | H11: ( | I11: 0 | J11: ) | K11: =(G11-E11-I11)*24 -> 4
C12: f | D12: ： | E12: 0.41666667 | F12: ～ | G12: 0.58333333 | H12: ( | I12: 0 | J12: ) | K12: =(G12-E12-I12)*24 -> 4
C13: g | D13: ： | F13: ～ | H13: ( | J13: ) | K13: =(G13-E13-I13)*24 -> 0
C14: h | D14: ： | F14: ～ | H14: ( | J14: ) | K14: =(G14-E14-I14)*24 -> 0
C15: i | D15: ： | F15: ～ | H15: ( | J15: ) | K15: =(G15-E15-I15)*24 -> 0
C16: j | D16: ： | F16: ～ | H16: ( | J16: ) | K16: =(G16-E16-I16)*24 -> 0
C17: k | D17: ： | F17: ～ | H17: ( | J17: ) | K17: =(G17-E17-I17)*24 -> 0
C18: l | D18: ： | F18: ～ | H18: ( | J18: ) | K18: =(G18-E18-I18)*24 -> 0
C19: m | D19: ： | F19: ～ | H19: ( | J19: ) | K19: =(G19-E19-I19)*24 -> 0
C20: n | D20: ： | F20: ～ | H20: ( | J20: ) | K20: =(G20-E20-I20)*24 -> 0
C21: o | D21: ： | F21: ～ | H21: ( | J21: ) | K21: 1
C22: p | D22: ： | F22: ～ | H22: ( | J22: ) | K22: 2
C23: q | D23: ： | F23: ～ | H23: ( | J23: ) | K23: 3
C24: r | D24: ： | F24: ～ | H24: ( | J24: ) | K24: 4
C25: s | D25: ： | F25: ～ | H25: ( | J25: ) | K25: 5
C26: t | D26: ： | F26: ～ | H26: ( | J26: ) | K26: 6
C27: u | D27: ： | F27: ～ | H27: ( | J27: ) | K27: 7
C28: v | D28: ： | F28: ～ | H28: ( | J28: ) | K28: 8
C29: w | D29: ： | F29: ～ | H29: ( | J29: )
C30: x | D30: ： | F30: ～ | H30: ( | J30: )
C31: y | D31: ： | F31: ～ | H31: ( | J31: )
C32: z | D32: ： | F32: ～ | H32: ( | J32: ) | K32: =(G32-E32-I32)*24 -> 0
C33: 早退(1) | D33: ： | F33: ～ | H33: ( | J33: ) | K33: =(G33-E33-I33)*24 -> 0 | M33: 実績で早退者がいた場合に使用
C34: 早退(2) | D34: ： | F34: ～ | H34: ( | J34: ) | K34: =(G34-E34-I34)*24 -> 0 | M34: 実績で早退者がいた場合に使用
C35: az | D35: ： | F35: ～ | H35: ( | J35: ) | K35: =(G35-E35-I35)*24 -> 0

Sheet 【提出用】居宅介護支援
C1: （参考様式） | G1: 従業者の勤務の体制及び勤務形態一覧表 | AR1: サービス種別 | AS1: ( | AT1: 居宅介護支援 | BI1: ）
AA2: 令和 | AD2: ( | AE2: =IF(AB2=0,"",YEAR(DATE(2018+AB2,1,1))) | AG2: ) | AH2: 年 | AK2: 月 | AR2: 事業所名 | AS2: ( | BI2: ）
BF3: (1) | BG3: 運営指導用
B4: (2)事業所の営業日
B5: 月 | C5: 火 | D5: 水 | E5: 木 | F5: 金 | G5: 土 | H5: 日 | I5: 祝 | K5: 営業時間 | AK5: (3)事業所における常勤の従業者が勤務すべき時間数 | AY5: 時間/日 | BC5: 時間/週 | BG5: 時間/月
J6: ⇒ | N6: ～ | R6: （計 | S6: =(O6-K6)*24 -> 0 | U6: 時間）
J7: ⇒ | N7: ～ | R7: （計 | S7: =(O7-K7)*24 -> 0 | U7: 時間） | BB7: 当月の日数 | BE7: =DAY(EOMONTH(DATE(AE2,AI2,1),0)) -> #VALUE! | BG7: 日
B8: 備考（休業日等）
AV9: (4) 利用者数（新規の場合は推定数） | BG9: 人
B11: No | C11: (4) 職種 | E11: (5) 勤務 形態 | G11: (6) 資格 | L11: (7) 氏 名 | P11: (A) 健康診断 （最終受検日を記入） | R11: (B) 個人情報漏洩に関する誓約書 | W11: (8) 勤 務 時 間 数 | BB11: =IF(BG3="計画","(9)1～4週目の勤務時間数合計","(9)1か月の勤務時間数合計") -> (9)1か月の勤務時間数合計 | BD11: (10) 週平均 勤務時間数 | BF11: (11) 兼務状況 （兼務先／兼務する職務の内容 ／兼務先の勤務時間数）
W12: 1週目 | AD12: 2週目 | AK12: 3週目 | AR12: 4週目 | AY12: 5週目
W13: =DAY(DATE($AE$2,$AI$2,1)) -> #VALUE! | X13: =DAY(DATE($AE$2,$AI$2,2)) -> #VALUE! | Y13: =DAY(DATE($AE$2,$AI$2,3)) -> #VALUE! | Z13: =DAY(DATE($AE$2,$AI$2,4)) -> #VALUE! | AA13: =DAY(DATE($AE$2,$AI$2,5)) -> #VALUE! | AB13: =DAY(DATE($AE$2,$AI$2,6)) -> #VALUE! | AC13: =DAY(DATE($AE$2,$AI$2,7)) -> #VALUE! | AD13: =DAY(DATE($AE$2,$AI$2,8)) -> #VALUE! | AE13: =DAY(DATE($AE$2,$AI$2,9)) -> #VALUE! | AF13: =DAY(DATE($AE$2,$AI$2,10)) -> #VALUE! | AG13: =DAY(DATE($AE$2,$AI$2,11)) -> #VALUE! | AH13: =DAY(DATE($AE$2,$AI$2,12)) -> #VALUE! | AI13: =DAY(DATE($AE$2,$AI$2,13)) -> #VALUE! | AJ13: =DAY(DATE($AE$2,$AI$2,14)) -> #VALUE! | AK13: =DAY(DATE($AE$2,$AI$2,15)) -> #VALUE! | AL13: =DAY(DATE($AE$2,$AI$2,16)) -> #VALUE! | AM13: =DAY(DATE($AE$2,$AI$2,17)) -> #VALUE! | AN13: =DAY(DATE($AE$2,$AI$2,18)) -> #VALUE! | AO13: =DAY(DATE($AE$2,$AI$2,19)) -> #VALUE! | AP13: =DAY(DATE($AE$2,$AI$2,20)) -> #VALUE! | AQ13: =DAY(DATE($AE$2,$AI$2,21)) -> #VALUE! | AR13: =DAY(DATE($AE$2,$AI$2,22)) -> #VALUE! | AS13: =DAY(DATE($AE$2,$AI$2,23)) -> #VALUE! | AT13: =DAY(DATE($AE$2,$AI$2,24)) -> #VALUE! | AU13: =DAY(DATE($AE$2,$AI$2,25)) -> #VALUE! | AV13: =DAY(DATE($AE$2,$AI$2,26)) -> #VALUE! | AW13: =DAY(DATE($AE$2,$AI$2,27)) -> #VALUE! | AX13: =DAY(DATE($AE$2,$AI$2,28)) -> #VALUE! | AY13: =IF(BG3="運営指導用",IF(DAY(DATE($AE$2,$AI$2,29))=29,29,""),"") -> #VALUE! | AZ13: =IF(BG3="運営指導用",IF(DAY(DATE($AE$2,$AI$2,30))=30,30,""),"") -> #VALUE! | BA13: =IF(BG3="運営指導用",IF(DAY(DATE($AE$2,$AI$2,31))=31,31,""),"") -> #VALUE!
W14: =WEEKDAY(DATE($AE$2,$AI$2,1)) -> #VALUE! | X14: =WEEKDAY(DATE($AE$2,$AI$2,2)) -> #VALUE! | Y14: =WEEKDAY(DATE($AE$2,$AI$2,3)) -> #VALUE! | Z14: =WEEKDAY(DATE($AE$2,$AI$2,4)) -> #VALUE! | AA14: =WEEKDAY(DATE($AE$2,$AI$2,5)) -> #VALUE! | AB14: =WEEKDAY(DATE($AE$2,$AI$2,6)) -> #VALUE! | AC14: =WEEKDAY(DATE($AE$2,$AI$2,7)) -> #VALUE! | AD14: =WEEKDAY(DATE($AE$2,$AI$2,8)) -> #VALUE! | AE14: =WEEKDAY(DATE($AE$2,$AI$2,9)) -> #VALUE! | AF14: =WEEKDAY(DATE($AE$2,$AI$2,10)) -> #VALUE! | AG14: =WEEKDAY(DATE($AE$2,$AI$2,11)) -> #VALUE! | AH14: =WEEKDAY(DATE($AE$2,$AI$2,12)) -> #VALUE! | AI14: =WEEKDAY(DATE($AE$2,$AI$2,13)) -> #VALUE! | AJ14: =WEEKDAY(DATE($AE$2,$AI$2,14)) -> #VALUE! | AK14: =WEEKDAY(DATE($AE$2,$AI$2,15)) -> #VALUE! | AL14: =WEEKDAY(DATE($AE$2,$AI$2,16)) -> #VALUE! | AM14: =WEEKDAY(DATE($AE$2,$AI$2,17)) -> #VALUE! | AN14: =WEEKDAY(DATE($AE$2,$AI$2,18)) -> #VALUE! | AO14: =WEEKDAY(DATE($AE$2,$AI$2,19)) -> #VALUE! | AP14: =WEEKDAY(DATE($AE$2,$AI$2,20)) -> #VALUE! | AQ14: =WEEKDAY(DATE($AE$2,$AI$2,21)) -> #VALUE! | AR14: =WEEKDAY(DATE($AE$2,$AI$2,22)) -> #VALUE! | AS14: =WEEKDAY(DATE($AE$2,$AI$2,23)) -> #VALUE! | AT14: =WEEKDAY(DATE($AE$2,$AI$2,24)) -> #VALUE! | AU14: =WEEKDAY(DATE($AE$2,$AI$2,25)) -> #VALUE! | AV14: =WEEKDAY(DATE($AE$2,$AI$2,26)) -> #VALUE! | AW14: =WEEKDAY(DATE($AE$2,$AI$2,27)) -> #VALUE! | AX14: =WEEKDAY(DATE($AE$2,$AI$2,28)) -> #VALUE! | AY14: =IF(AY13=29,WEEKDAY(DATE($AE$2,$AI$2,29)),0) -> #VALUE! | AZ14: =IF(AZ13=30,WEEKDAY(DATE($AE$2,$AI$2,30)),0) -> #VALUE! | BA14: =IF(BA13=31,WEEKDAY(DATE($AE$2,$AI$2,31)),0) -> #VALUE!
W15: =IF(W14=1,"日",IF(W14=2,"月",IF(W14=3,"火",IF(W14=4,"水",IF(W14=5,"木",IF(W14=6,"金","土")))))) -> #VALUE! | X15: =IF(X14=1,"日",IF(X14=2,"月",IF(X14=3,"火",IF(X14=4,"水",IF(X14=5,"木",IF(X14=6,"金","土")))))) -> #VALUE! | Y15: =IF(Y14=1,"日",IF(Y14=2,"月",IF(Y14=3,"火",IF(Y14=4,"水",IF(Y14=5,"木",IF(Y14=6,"金","土")))))) -> #VALUE! | Z15: =IF(Z14=1,"日",IF(Z14=2,"月",IF(Z14=3,"火",IF(Z14=4,"水",IF(Z14=5,"木",IF(Z14=6,"金","土")))))) -> #VALUE! | AA15: =IF(AA14=1,"日",IF(AA14=2,"月",IF(AA14=3,"火",IF(AA14=4,"水",IF(AA14=5,"木",IF(AA14=6,"金","土")))))) -> #VALUE! | AB15: =IF(AB14=1,"日",IF(AB14=2,"月",IF(AB14=3,"火",IF(AB14=4,"水",IF(AB14=5,"木",IF(AB14=6,"金","土")))))) -> #VALUE! | AC15: =IF(AC14=1,"日",IF(AC14=2,"月",IF(AC14=3,"火",IF(AC14=4,"水",IF(AC14=5,"木",IF(AC14=6,"金","土")))))) -> #VALUE! | AD15: =IF(AD14=1,"日",IF(AD14=2,"月",IF(AD14=3,"火",IF(AD14=4,"水",IF(AD14=5,"木",IF(AD14=6,"金","土")))))) -> #VALUE! | ... AX15: =IF(AX14=1,"日",IF(AX14=2,"月",IF(AX14=3,"火",IF(AX14=4,"水",IF(AX14=5,"木",IF(AX14=6,"金","土")))))) -> #VALUE! | AY15: =IF(AY14=1,"日",IF(AY14=2,"月",IF(AY14=3,"火",IF(AY14=4,"水",IF(AY14=5,"木",IF(AY14=6,"金",IF(AY14=0,"","土"))))))) -> #VALUE! | AZ15: =IF(AZ14=1,"日",IF(AZ14=2,"月",IF(AZ14=3,"火",IF(AZ14=4,"水",IF(AZ14=5,"木",IF(AZ14=6,"金",IF(AZ14=0,"","土"))))))) -> #VALUE! | BA15: =IF(BA14=1,"日",IF(BA14=2,"月",IF(BA14=3,"火",IF(BA14=4,"水",IF(BA14=5,"木",IF(BA14=6,"金",IF(BA14=0,"","土"))))))) -> #VALUE!
B16: 1 | T16: シフト記号 | BB16: =IF($BG$3="計画",SUM(W17:AX17),IF($BG$3="運営指導用",SUM(W17:BA17),"")) -> 0 | BD16: =IF($BG$3="計画",BB16/4,IF($BG$3="運営指導用",BB16/($BE$7/7),"")) -> #VALUE!
T17: 勤務時間数 | W17: =IF(W16="","",VLOOKUP(W16,'【提出用】シフト記号表（勤務時間帯）'!$C$4:$K$35,9,FALSE)) | X17: =IF(X16="","",VLOOKUP(X16,'【提出用】シフト記号表（勤務時間帯）'!$C$4:$K$35,9,FALSE)) | Y17: =IF(Y16="","",VLOOKUP(Y16,'【提出用】シフト記号表（勤務時間帯）'!$C$4:$K$35,9,FALSE)) | Z17: =IF(Z16="","",VLOOKUP(Z16,'【提出用】シフト記号表（勤務時間帯）'!$C$4:$K$35,9,FALSE)) | AA17: =IF(AA16="","",VLOOKUP(AA16,'【提出用】シフト記号表（勤務時間帯）'!$C$4:$K$35,9,FALSE)) | AB17: =IF(AB16="","",VLOOKUP(AB16,'【提出用】シフト記号表（勤務時間帯）'!$C$4:$K$35,9,FALSE)) | AC17: =IF(AC16="","",VLOOKUP(AC16,'【提出用】シフト記号表（勤務時間帯）'!$C$4:$K$35,9,FALSE)) | AD17: =IF(AD16="","",VLOOKUP(AD16,'【提出用】シフト記号表（勤務時間帯）'!$C$4:$K$35,9,FALSE)) | ... BA17: =IF(BA16="","",VLOOKUP(BA16,'【提出用】シフト記号表（勤務時間帯）'!$C$4:$K$35,9,FALSE))
B18: =B16+1 -> 2 | T18: シフト記号 | BB18: =IF($BG$3="計画",SUM(W19:AX19),IF($BG$3="運営指導用",SUM(W19:BA19),"")) -> 0 | BD18: =IF($BG$3="計画",BB18/4,IF($BG$3="運営指導用",BB18/($BE$7/7),"")) -> #VALUE!
T19: 勤務時間数 | W19: =IF(W18="","",VLOOKUP(W18,'【提出用】シフト記号表（勤務時間帯）'!$C$4:$K$35,9,FALSE)) | X19: =IF(X18="","",VLOOKUP(X18,'【提出用】シフト記号表（勤務時間帯）'!$C$4:$K$35,9,FALSE)) | Y19: =IF(Y18="","",VLOOKUP(Y18,'【提出用】シフト記号表（勤務時間帯）'!$C$4:$K$35,9,FALSE)) | Z19: =IF(Z18="","",VLOOKUP(Z18,'【提出用】シフト記号表（勤務時間帯）'!$C$4:$K$35,9,FALSE)) | AA19: =IF(AA18="","",VLOOKUP(AA18,'【提出用】シフト記号表（勤務時間帯）'!$C$4:$K$35,9,FALSE)) | AB19: =IF(AB18="","",VLOOKUP(AB18,'【提出用】シフト記号表（勤務時間帯）'!$C$4:$K$35,9,FALSE)) | AC19: =IF(AC18="","",VLOOKUP(AC18,'【提出用】シフト記号表（勤務時間帯）'!$C$4:$K$35,9,FALSE)) | AD19: =IF(AD18="","",VLOOKUP(AD18,'【提出用】シフト記号表（勤務時間帯）'!$C$4:$K$35,9,FALSE)) | ... BA19: =IF(BA18="","",VLOOKUP(BA18,'【提出用】シフト記号表（勤務時間帯）'!$C$4:$K$35,9,FALSE))
B20: =B18+1 -> 3 | T20: シフト記号 | BB20: =IF($BG$3="計画",SUM(W21:AX21),IF($BG$3="運営指導用",SUM(W21:BA21),"")) -> 0 | BD20: =IF($BG$3="計画",BB20/4,IF($BG$3="運営指導用",BB20/($BE$7/7),"")) -> #VALUE!
T21: 勤務時間数 | W21: =IF(W20="","",VLOOKUP(W20,'【提出用】シフト記号表（勤務時間帯）'!$C$4:$K$35,9,FALSE)) | X21: =IF(X20="","",VLOOKUP(X20,'【提出用】シフト記号表（勤務時間帯）'!$C$4:$K$35,9,FALSE)) | Y21: =IF(Y20="","",VLOOKUP(Y20,'【提出用】シフト記号表（勤務時間帯）'!$C$4:$K$35,9,FALSE)) | Z21: =IF(Z20="","",VLOOKUP(Z20,'【提出用】シフト記号表（勤務時間帯）'!$C$4:$K$35,9,FALSE)) | AA21: =IF(AA20="","",VLOOKUP(AA20,'【提出用】シフト記号表（勤務時間帯）'!$C$4:$K$35,9,FALSE)) | AB21: =IF(AB20="","",VLOOKUP(AB20,'【提出用】シフト記号表（勤務時間帯）'!$C$4:$K$35,9,FALSE)) | AC21: =IF(AC20="","",VLOOKUP(AC20,'【提出用】シフト記号表（勤務時間帯）'!$C$4:$K$35,9,FALSE)) | AD21: =IF(AD20="","",VLOOKUP(AD20,'【提出用】シフト記号表（勤務時間帯）'!$C$4:$K$35,9,FALSE)) | ... BA21: =IF(BA20="","",VLOOKUP(BA20,'【提出用】シフト記号表（勤務時間帯）'!$C$4:$K$35,9,FALSE))
B22: =B20+1 -> 4 | T22: シフト記号 | BB22: =IF($BG$3="計画",SUM(W23:AX23),IF($BG$3="運営指導用",SUM(W23:BA23),"")) -> 0 | BD22: =IF($BG$3="計画",BB22/4,IF($BG$3="運営指導用",BB22/($BE$7/7),"")) -> #VALUE!
T23: 勤務時間数 | W23: =IF(W22="","",VLOOKUP(W22,'【提出用】シフト記号表（勤務時間帯）'!$C$4:$K$35,9,FALSE)) | X23: =IF(X22="","",VLOOKUP(X22,'【提出用】シフト記号表（勤務時間帯）'!$C$4:$K$35,9,FALSE)) | Y23: =IF(Y22="","",VLOOKUP(Y22,'【提出用】シフト記号表（勤務時間帯）'!$C$4:$K$35,9,FALSE)) | Z23: =IF(Z22="","",VLOOKUP(Z22,'【提出用】シフト記号表（勤務時間帯）'!$C$4:$K$35,9,FALSE)) | AA23: =IF(AA22="","",VLOOKUP(AA22,'【提出用】シフト記号表（勤務時間帯）'!$C$4:$K$35,9,FALSE)) | AB23: =IF(AB22="","",VLOOKUP(AB22,'【提出用】シフト記号表（勤務時間帯）'!$C$4:$K$35,9,FALSE)) | AC23: =IF(AC22="","",VLOOKUP(AC22,'【提出用】シフト記号表（勤務時間帯）'!$C$4:$K$35,9,FALSE)) | AD23: =IF(AD22="","",VLOOKUP(AD22,'【提出用】シフト記号表（勤務時間帯）'!$C$4:$K$35,9,FALSE)) | ... BA23: =IF(BA22="","",VLOOKUP(BA22,'【提出用】シフト記号表（勤務時間帯）'!$C$4:$K$35,9,FALSE))
B24: =B22+1 -> 5 | T24: シフト記号 | BB24: =IF($BG$3="計画",SUM(W25:AX25),IF($BG$3="運営指導用",SUM(W25:BA25),"")) -> 0 | BD24: =IF($BG$3="計画",BB24/4,IF($BG$3="運営指導用",BB24/($BE$7/7),"")) -> #VALUE!
T25: 勤務時間数 | W25: =IF(W24="","",VLOOKUP(W24,'【提出用】シフト記号表（勤務時間帯）'!$C$4:$K$35,9,FALSE)) | X25: =IF(X24="","",VLOOKUP(X24,'【提出用】シフト記号表（勤務時間帯）'!$C$4:$K$35,9,FALSE)) | Y25: =IF(Y24="","",VLOOKUP(Y24,'【提出用】シフト記号表（勤務時間帯）'!$C$4:$K$35,9,FALSE)) | Z25: =IF(Z24="","",VLOOKUP(Z24,'【提出用】シフト記号表（勤務時間帯）'!$C$4:$K$35,9,FALSE)) | AA25: =IF(AA24="","",VLOOKUP(AA24,'【提出用】シフト記号表（勤務時間帯）'!$C$4:$K$35,9,FALSE)) | AB25: =IF(AB24="","",VLOOKUP(AB24,'【提出用】シフト記号表（勤務時間帯）'!$C$4:$K$35,9,FALSE)) | AC25: =IF(AC24="","",VLOOKUP(AC24,'【提出用】シフト記号表（勤務時間帯）'!$C$4:$K$35,9,FALSE)) | AD25: =IF(AD24="","",VLOOKUP(AD24,'【提出用】シフト記号表（勤務時間帯）'!$C$4:$K$35,9,FALSE)) | ... BA25: =IF(BA24="","",VLOOKUP(BA24,'【提出用】シフト記号表（勤務時間帯）'!$C$4:$K$35,9,FALSE))
B26: =B24+1 -> 6 | T26: シフト記号 | BB26: =IF($BG$3="計画",SUM(W27:AX27),IF($BG$3="運営指導用",SUM(W27:BA27),"")) -> 0 | BD26: =IF($BG$3="計画",BB26/4,IF($BG$3="運営指導用",BB26/($BE$7/7),"")) -> #VALUE!
T27: 勤務時間数 | W27: =IF(W26="","",VLOOKUP(W26,'【提出用】シフト記号表（勤務時間帯）'!$C$4:$K$35,9,FALSE)) | X27: =IF(X26="","",VLOOKUP(X26,'【提出用】シフト記号表（勤務時間帯）'!$C$4:$K$35,9,FALSE)) | Y27: =IF(Y26="","",VLOOKUP(Y26,'【提出用】シフト記号表（勤務時間帯）'!$C$4:$K$35,9,FALSE)) | Z27: =IF(Z26="","",VLOOKUP(Z26,'【提出用】シフト記号表（勤務時間帯）'!$C$4:$K$35,9,FALSE)) | AA27: =IF(AA26="","",VLOOKUP(AA26,'【提出用】シフト記号表（勤務時間帯）'!$C$4:$K$35,9,FALSE)) | AB27: =IF(AB26="","",VLOOKUP(AB26,'【提出用】シフト記号表（勤務時間帯）'!$C$4:$K$35,9,FALSE)) | AC27: =IF(AC26="","",VLOOKUP(AC26,'【提出用】シフト記号表（勤務時間帯）'!$C$4:$K$35,9,FALSE)) | AD27: =IF(AD26="","",VLOOKUP(AD26,'【提出用】シフト記号表（勤務時間帯）'!$C$4:$K$35,9,FALSE)) | ... BA27: =IF(BA26="","",VLOOKUP(BA26,'【提出用】シフト記号表（勤務時間帯）'!$C$4:$K$35,9,FALSE))
B28: =B26+1 -> 7 | T28: シフト記号 | BB28: =IF($BG$3="計画",SUM(W29:AX29),IF($BG$3="運営指導用",SUM(W29:BA29),"")) -> 0 | BD28: =IF($BG$3="計画",BB28/4,IF($BG$3="運営指導用",BB28/($BE$7/7),"")) -> #VALUE!
T29: 勤務時間数 | W29: =IF(W28="","",VLOOKUP(W28,'【提出用】シフト記号表（勤務時間帯）'!$C$4:$K$35,9,FALSE)) | X29: =IF(X28="","",VLOOKUP(X28,'【提出用】シフト記号表（勤務時間帯）'!$C$4:$K$35,9,FALSE)) | Y29: =IF(Y28="","",VLOOKUP(Y28,'【提出用】シフト記号表（勤務時間帯）'!$C$4:$K$35,9,FALSE)) | Z29: =IF(Z28="","",VLOOKUP(Z28,'【提出用】シフト記号表（勤務時間帯）'!$C$4:$K$35,9,FALSE)) | AA29: =IF(AA28="","",VLOOKUP(AA28,'【提出用】シフト記号表（勤務時間帯）'!$C$4:$K$35,9,FALSE)) | AB29: =IF(AB28="","",VLOOKUP(AB28,'【提出用】シフト記号表（勤務時間帯）'!$C$4:$K$35,9,FALSE)) | AC29: =IF(AC28="","",VLOOKUP(AC28,'【提出用】シフト記号表（勤務時間帯）'!$C$4:$K$35,9,FALSE)) | AD29: =IF(AD28="","",VLOOKUP(AD28,'【提出用】シフト記号表（勤務時間帯）'!$C$4:$K$35,9,FALSE)) | ... BA29: =IF(BA28="","",VLOOKUP(BA28,'【提出用】シフト記号表（勤務時間帯）'!$C$4:$K$35,9,FALSE))
B30: =B28+1 -> 8 | T30: シフト記号 | BB30: =IF($BG$3="計画",SUM(W31:AX31),IF($BG$3="運営指導用",SUM(W31:BA31),"")) -> 0 | BD30: =IF($BG$3="計画",BB30/4,IF($BG$3="運営指導用",BB30/($BE$7/7),"")) -> #VALUE!
T31: 勤務時間数 | W31: =IF(W30="","",VLOOKUP(W30,'【提出用】シフト記号表（勤務時間帯）'!$C$4:$K$35,9,FALSE)) | X31: =IF(X30="","",VLOOKUP(X30,'【提出用】シフト記号表（勤務時間帯）'!$C$4:$K$35,9,FALSE)) | Y31: =IF(Y30="","",VLOOKUP(Y30,'【提出用】シフト記号表（勤務時間帯）'!$C$4:$K$35,9,FALSE)) | Z31: =IF(Z30="","",VLOOKUP(Z30,'【提出用】シフト記号表（勤務時間帯）'!$C$4:$K$35,9,FALSE)) | AA31: =IF(AA30="","",VLOOKUP(AA30,'【提出用】シフト記号表（勤務時間帯）'!$C$4:$K$35,9,FALSE)) | AB31: =IF(AB30="","",VLOOKUP(AB30,'【提出用】シフト記号表（勤務時間帯）'!$C$4:$K$35,9,FALSE)) | AC31: =IF(AC30="","",VLOOKUP(AC30,'【提出用】シフト記号表（勤務時間帯）'!$C$4:$K$35,9,FALSE)) | AD31: =IF(AD30="","",VLOOKUP(AD30,'【提出用】シフト記号表（勤務時間帯）'!$C$4:$K$35,9,FALSE)) | ... BA31: =IF(BA30="","",VLOOKUP(BA30,'【提出用】シフト記号表（勤務時間帯）'!$C$4:$K$35,9,FALSE))
B32: =B30+1 -> 9 | T32: シフト記号 | BB32: =IF($BG$3="計画",SUM(W33:AX33),IF($BG$3="運営指導用",SUM(W33:BA33),"")) -> 0 | BD32: =IF($BG$3="計画",BB32/4,IF($BG$3="運営指導用",BB32/($BE$7/7),"")) -> #VALUE!
T33: 勤務時間数 | W33: =IF(W32="","",VLOOKUP(W32,'【提出用】シフト記号表（勤務時間帯）'!$C$4:$K$35,9,FALSE)) | X33: =IF(X32="","",VLOOKUP(X32,'【提出用】シフト記号表（勤務時間帯）'!$C$4:$K$35,9,FALSE)) | Y33: =IF(Y32="","",VLOOKUP(Y32,'【提出用】シフト記号表（勤務時間帯）'!$C$4:$K$35,9,FALSE)) | Z33: =IF(Z32="","",VLOOKUP(Z32,'【提出用】シフト記号表（勤務時間帯）'!$C$4:$K$35,9,FALSE)) | AA33: =IF(AA32="","",VLOOKUP(AA32,'【提出用】シフト記号表（勤務時間帯）'!$C$4:$K$35,9,FALSE)) | AB33: =IF(AB32="","",VLOOKUP(AB32,'【提出用】シフト記号表（勤務時間帯）'!$C$4:$K$35,9,FALSE)) | AC33: =IF(AC32="","",VLOOKUP(AC32,'【提出用】シフト記号表（勤務時間帯）'!$C$4:$K$35,9,FALSE)) | AD33: =IF(AD32="","",VLOOKUP(AD32,'【提出用】シフト記号表（勤務時間帯）'!$C$4:$K$35,9,FALSE)) | ... BA33: =IF(BA32="","",VLOOKUP(BA32,'【提出用】シフト記号表（勤務時間帯）'!$C$4:$K$35,9,FALSE))
B34: =B32+1 -> 10 | T34: シフト記号 | BB34: =IF($BG$3="計画",SUM(W35:AX35),IF($BG$3="運営指導用",SUM(W35:BA35),"")) -> 0 | BD34: =IF($BG$3="計画",BB34/4,IF($BG$3="運営指導用",BB34/($BE$7/7),"")) -> #VALUE!
T35: 勤務時間数 | W35: =IF(W34="","",VLOOKUP(W34,'【提出用】シフト記号表（勤務時間帯）'!$C$4:$K$35,9,FALSE)) | X35: =IF(X34="","",VLOOKUP(X34,'【提出用】シフト記号表（勤務時間帯）'!$C$4:$K$35,9,FALSE)) | Y35: =IF(Y34="","",VLOOKUP(Y34,'【提出用】シフト記号表（勤務時間帯）'!$C$4:$K$35,9,FALSE)) | Z35: =IF(Z34="","",VLOOKUP(Z34,'【提出用】シフト記号表（勤務時間帯）'!$C$4:$K$35,9,FALSE)) | AA35: =IF(AA34="","",VLOOKUP(AA34,'【提出用】シフト記号表（勤務時間帯）'!$C$4:$K$35,9,FALSE)) | AB35: =IF(AB34="","",VLOOKUP(AB34,'【提出用】シフト記号表（勤務時間帯）'!$C$4:$K$35,9,FALSE)) | AC35: =IF(AC34="","",VLOOKUP(AC34,'【提出用】シフト記号表（勤務時間帯）'!$C$4:$K$35,9,FALSE)) | AD35: =IF(AD34="","",VLOOKUP(AD34,'【提出用】シフト記号表（勤務時間帯）'!$C$4:$K$35,9,FALSE)) | ... BA35: =IF(BA34="","",VLOOKUP(BA34,'【提出用】シフト記号表（勤務時間帯）'!$C$4:$K$35,9,FALSE))
B36: =B34+1 -> 11 | T36: シフト記号 | BB36: =IF($BG$3="計画",SUM(W37:AX37),IF($BG$3="運営指導用",SUM(W37:BA37),"")) -> 0 | BD36: =IF($BG$3="計画",BB36/4,IF($BG$3="運営指導用",BB36/($BE$7/7),"")) -> #VALUE!
T37: 勤務時間数 | W37: =IF(W36="","",VLOOKUP(W36,'【提出用】シフト記号表（勤務時間帯）'!$C$4:$K$35,9,FALSE)) | X37: =IF(X36="","",VLOOKUP(X36,'【提出用】シフト記号表（勤務時間帯）'!$C$4:$K$35,9,FALSE)) | Y37: =IF(Y36="","",VLOOKUP(Y36,'【提出用】シフト記号表（勤務時間帯）'!$C$4:$K$35,9,FALSE)) | Z37: =IF(Z36="","",VLOOKUP(Z36,'【提出用】シフト記号表（勤務時間帯）'!$C$4:$K$35,9,FALSE)) | AA37: =IF(AA36="","",VLOOKUP(AA36,'【提出用】シフト記号表（勤務時間帯）'!$C$4:$K$35,9,FALSE)) | AB37: =IF(AB36="","",VLOOKUP(AB36,'【提出用】シフト記号表（勤務時間帯）'!$C$4:$K$35,9,FALSE)) | AC37: =IF(AC36="","",VLOOKUP(AC36,'【提出用】シフト記号表（勤務時間帯）'!$C$4:$K$35,9,FALSE)) | AD37: =IF(AD36="","",VLOOKUP(AD36,'【提出用】シフト記号表（勤務時間帯）'!$C$4:$K$35,9,FALSE)) | ... BA37: =IF(BA36="","",VLOOKUP(BA36,'【提出用】シフト記号表（勤務時間帯）'!$C$4:$K$35,9,FALSE))
B38: =B36+1 -> 12 | T38: シフト記号 | BB38: =IF($BG$3="計画",SUM(W39:AX39),IF($BG$3="運営指導用",SUM(W39:BA39),"")) -> 0 | BD38: =IF($BG$3="計画",BB38/4,IF($BG$3="運営指導用",BB38/($BE$7/7),"")) -> #VALUE!
T39: 勤務時間数 | W39: =IF(W38="","",VLOOKUP(W38,'【提出用】シフト記号表（勤務時間帯）'!$C$4:$K$35,9,FALSE)) | X39: =IF(X38="","",VLOOKUP(X38,'【提出用】シフト記号表（勤務時間帯）'!$C$4:$K$35,9,FALSE)) | Y39: =IF(Y38="","",VLOOKUP(Y38,'【提出用】シフト記号表（勤務時間帯）'!$C$4:$K$35,9,FALSE)) | Z39: =IF(Z38="","",VLOOKUP(Z38,'【提出用】シフト記号表（勤務時間帯）'!$C$4:$K$35,9,FALSE)) | AA39: =IF(AA38="","",VLOOKUP(AA38,'【提出用】シフト記号表（勤務時間帯）'!$C$4:$K$35,9,FALSE)) | AB39: =IF(AB38="","",VLOOKUP(AB38,'【提出用】シフト記号表（勤務時間帯）'!$C$4:$K$35,9,FALSE)) | AC39: =IF(AC38="","",VLOOKUP(AC38,'【提出用】シフト記号表（勤務時間帯）'!$C$4:$K$35,9,FALSE)) | AD39: =IF(AD38="","",VLOOKUP(AD38,'【提出用】シフト記号表（勤務時間帯）'!$C$4:$K$35,9,FALSE)) | ... BA39: =IF(BA38="","",VLOOKUP(BA38,'【提出用】シフト記号表（勤務時間帯）'!$C$4:$K$35,9,FALSE))
B40: =B38+1 -> 13 | T40: シフト記号 | BB40: =IF($BG$3="計画",SUM(W41:AX41),IF($BG$3="運営指導用",SUM(W41:BA41),"")) -> 0 | BD40: =IF($BG$3="計画",BB40/4,IF($BG$3="運営指導用",BB40/($BE$7/7),"")) -> #VALUE!
T41: 勤務時間数 | W41: =IF(W40="","",VLOOKUP(W40,'【提出用】シフト記号表（勤務時間帯）'!$C$4:$K$35,9,FALSE)) | X41: =IF(X40="","",VLOOKUP(X40,'【提出用】シフト記号表（勤務時間帯）'!$C$4:$K$35,9,FALSE)) | Y41: =IF(Y40="","",VLOOKUP(Y40,'【提出用】シフト記号表（勤務時間帯）'!$C$4:$K$35,9,FALSE)) | Z41: =IF(Z40="","",VLOOKUP(Z40,'【提出用】シフト記号表（勤務時間帯）'!$C$4:$K$35,9,FALSE)) | AA41: =IF(AA40="","",VLOOKUP(AA40,'【提出用】シフト記号表（勤務時間帯）'!$C$4:$K$35,9,FALSE)) | AB41: =IF(AB40="","",VLOOKUP(AB40,'【提出用】シフト記号表（勤務時間帯）'!$C$4:$K$35,9,FALSE)) | AC41: =IF(AC40="","",VLOOKUP(AC40,'【提出用】シフト記号表（勤務時間帯）'!$C$4:$K$35,9,FALSE)) | AD41: =IF(AD40="","",VLOOKUP(AD40,'【提出用】シフト記号表（勤務時間帯）'!$C$4:$K$35,9,FALSE)) | ... BA41: =IF(BA40="","",VLOOKUP(BA40,'【提出用】シフト記号表（勤務時間帯）'!$C$4:$K$35,9,FALSE))
...

Sheet 【提出用】シフト記号表（勤務時間帯）
B1: ≪要 提出≫
B2: ■シフト記号表（勤務時間帯） | E2: ※24時間表記 | I2: 休憩時間1時間は「1:00」、休憩時間45分は「00:45」と入力してください。
B3: （記号の意味） | C3: 記号 | E3: 始業時間 | G3: 終業時間 | I3: うち、休憩時間 | K3: 勤務時間
B4: 休：休暇 | C4: 休 | D4: ： | E4: - | F4: ～ | G4: - | H4: ( | I4: - | J4: ) | K4: -
B5: 出：出張 | C5: 出 | D5: ： | E5: - | F5: ～ | G5: - | H5: ( | I5: - | J5: ) | K5: -
B6: 研：研修 | C6: 研 | D6: ： | E6: - | F6: ～ | G6: - | H6: ( | I6: - | J6: ) | K6: -
C7: a | D7: ： | F7: ～ | H7: ( | J7: ) | K7: =(G7-E7-I7)*24 -> 0
C8: b | D8: ： | F8: ～ | H8: ( | J8: ) | K8: =(G8-E8-I8)*24 -> 0
C9: c | D9: ： | F9: ～ | H9: ( | J9: ) | K9: =(G9-E9-I9)*24 -> 0
C10: d | D10: ： | F10: ～ | H10: ( | J10: ) | K10: =(G10-E10-I10)*24 -> 0
C11: e | D11: ： | F11: ～ | H11: ( | J11: ) | K11: =(G11-E11-I11)*24 -> 0
C12: f | D12: ： | F12: ～ | H12: ( | J12: ) | K12: =(G12-E12-I12)*24 -> 0
C13: g | D13: ： | F13: ～ | H13: ( | J13: ) | K13: =(G13-E13-I13)*24 -> 0
C14: h | D14: ： | F14: ～ | H14: ( | J14: ) | K14: =(G14-E14-I14)*24 -> 0
C15: i | D15: ： | F15: ～ | H15: ( | J15: ) | K15: =(G15-E15-I15)*24 -> 0
C16: j | D16: ： | F16: ～ | H16: ( | J16: ) | K16: =(G16-E16-I16)*24 -> 0
C17: k | D17: ： | F17: ～ | H17: ( | J17: ) | K17: =(G17-E17-I17)*24 -> 0
C18: l | D18: ： | F18: ～ | H18: ( | J18: ) | K18: =(G18-E18-I18)*24 -> 0
... C20: n | D20: ： | F20: ～ | H20: ( | J20: ) | K20: =(G20-E20-I20)*24 -> 0
C21: o | D21: ： | F21: ～ | H21: ( | J21: ) | K21: 1
C22: p | D22: ： | F22: ～ | H22: ( | J22: ) | K22: 2
C23: q | D23: ： | F23: ～ | H23: ( | J23: ) | K23: 3
C24: r | D24: ： | F24: ～ | H24: ( | J24: ) | K24: 4
C25: s | D25: ： | F25: ～ | H25: ( | J25: ) | K25: 5
C26: t | D26: ： | F26: ～ | H26: ( | J26: ) | K26: 6
C27: u | D27: ： | F27: ～ | H27: ( | J27: ) | K27: 7
C28: v | D28: ： | F28: ～ | H28: ( | J28: ) | K28: 8
C29: w | D29: ： | F29: ～ | H29: ( | J29: )
C30: x | D30: ： | F30: ～ | H30: ( | J30: )
C31: y | D31: ： | F31: ～ | H31: ( | J31: )
C32: z | D32: ： | F32: ～ | H32: ( | J32: ) | K32: =(G32-E32-I32)*24 -> 0
C33: 早退(1) | D33: ： | F33: ～ | H33: ( | J33: ) | K33: =(G33-E33-I33)*24 -> 0 | M33: 実績で早退者がいた場合に使用
C34: 早退(2) | D34: ： | F34: ～ | H34: ( | J34: ) | K34: =(G34-E34-I34)*24 -> 0 | M34: 実績で早退者がいた場合に使用
C35: az | D35: ： | F35: ～ | H35: ( | J35: ) | K35: =(G35-E35-I35)*24 -> 0

Sheet プルダウン・リスト
B1: １．サービス種別
B3: No | C3: サービス種別名 | D3: 個人情報漏洩に関する誓約書
B4: 1 | C4: 居宅介護支援 | D4: 有
B5: 2 | C5: 介護予防支援 | D5: 無
B6: 3 | C6: 計画相談支援
B7: 4 | C7: 地域移行支援
B8: 5 | C8: 地域定着支援
B9: 6 | C9: 障害児相談支援
B11: ２．職種名・資格名称
B13: 職種名 | C13: 管理者 | D13: 介護支援専門員 | E13: 介護予防支援担当職員 | F13: 相談支援専門員
B14: 資格 | C14: 主任介護支援専門員 | D14: 主任介護支援専門員 | E14: 保健師 | F14: 相談支援専門員
C15: 介護支援専門員（経過措置） | D15: 介護支援専門員 | E15: 介護支援専門員
C16: 相談支援専門員 | E16: 社会福祉士
E17: 経験ある看護師
E18: 社会福祉主事（3年以上従事）
C29: 【自治体の皆様へ】
C30: ※ INDIRECT関数使用のため、以下のとおりセルに「名前の定義」をしています。
C31: 12行目・・・「職種」
C32: C列・・・「管理者」
C33: D列・・・「介護支援専門員」
C34: E列・・・「介護予防支援担当職員」
C35: ※自治体の条例により定められた資格等、自治体独自の資格を追加する必要がある場合は、上表の空欄に資格名称を追加してください。
C36: 行が足りない場合は、適宜追加してください。
C38: ※職種を追加したい場合は、12行目に職種名を追加し、それぞれの列に必要資格を入力してください。
C39: その後、以下の手順で必要資格について「名前の定義」をします。
C40: ・「数式」タブ ⇒ 「名前の定義」を選択
C41: ・「名前」に職種名を入力
... C43: 編集したい場合は、「数式」タブ ⇒ 「名前の管理」で編集してください。
